View In:
ArcGIS JavaScript
ArcGIS Online Map Viewer
ArcGIS Earth
Service Description: orto/orto94888morichal
Name: orto/orto94888morichal
Description:
Single Fused Map Cache: false
Extent:
XMin: 5262033
YMin: 1769711.8
XMax: 5424223.2
YMax: 1878242.8
Spatial Reference: 9377
(9377)
Initial Extent:
XMin: 5262033
YMin: 1769711.8
XMax: 5424223.2
YMax: 1878242.8
Spatial Reference: 9377
(9377)
Full Extent:
XMin: 5262033
YMin: 1769711.8
XMax: 5424223.2
YMax: 1878242.8
Spatial Reference: 9377
(9377)
Pixel Size X: 0.20000000000000023
Pixel Size Y: 0.2
Band Count: 3
Pixel Type: U8
RasterFunction Infos: {"rasterFunctionInfos": [
{
"name": "None",
"description": "Make a Raster or Raster Dataset into a Function Raster Dataset.",
"help": ""
},
{
"name": "Grayscale",
"description": "Convierte una imagen multibanda en una imagen de escala de grises de banda única. Las bandas de entrada se pueden tratar aplicando a cada una de ellas unos pesos o bien normalizándolas. ",
"help": ""
}
]}
Mensuration Capabilities: None
Inspection Capabilities:
Has Histograms: true
Has Colormap: false
Has Multi Dimensions : false
Rendering Rule:
Min Scale: 0
Max Scale: 0
Copyright Text:
Service Data Type: esriImageServiceDataTypeRGB
Min Values: 0, 0, 0
Max Values: 221, 218, 207
Mean Values: 28.505764987104143, 39.93096412428176, 28.10893777785561
Standard Deviation Values: 5.3751605678073195, 7.063413764345543, 6.52119214322013
Object ID Field: objectid
Fields:
-
objectid
(
type: esriFieldTypeOID, alias: OBJECTID
)
-
name
(
type: esriFieldTypeString, alias: Name, length: 200
)
-
minps
(
type: esriFieldTypeDouble, alias: MinPS
)
-
maxps
(
type: esriFieldTypeDouble, alias: MaxPS
)
-
lowps
(
type: esriFieldTypeDouble, alias: LowPS
)
-
highps
(
type: esriFieldTypeDouble, alias: HighPS
)
-
category
(
type: esriFieldTypeInteger, alias: Category
, Coded Values:
[0: Unknown]
, [1: Primary]
, [2: Overview]
, ...6 more...
)
-
tag
(
type: esriFieldTypeString, alias: Tag, length: 100
)
-
groupname
(
type: esriFieldTypeString, alias: GroupName, length: 100
)
-
productname
(
type: esriFieldTypeString, alias: ProductName, length: 100
)
-
centerx
(
type: esriFieldTypeDouble, alias: CenterX
)
-
centery
(
type: esriFieldTypeDouble, alias: CenterY
)
-
zorder
(
type: esriFieldTypeInteger, alias: ZOrder
)
-
shape
(
type: esriFieldTypeGeometry, alias: Shape
)
Default Mosaic Method: Northwest
Allowed Mosaic Methods: NorthWest,Center,LockRaster,ByAttribute,Nadir,Viewpoint,Seamline,None
SortField:
SortValue: null
Mosaic Operator: First
Default Compression Quality: 75
Default Resampling Method: Bilinear
Max Record Count: 1000
Max Image Height: 542655
Max Image Width: 810951
Max Download Image Count: 20
Max Mosaic Image Count: 20
Allow Raster Function: true
Allow Copy: true
Allow Analysis: true
Allow Compute TiePoints: false
Supports Statistics: true
Supports Advanced Queries: true
Use StandardizedQueries: true
Raster Type Infos:
Name: Raster Dataset
Description: Supports all ArcGIS Raster Datasets
Help:
Has Raster Attribute Table: false
Edit Fields Info: null
Ownership Based AccessControl For Rasters: null
Child Resources:
Info
Histograms
Statistics
Key Properties
Legend
Raster Function Infos
Supported Operations:
Export Image
Query
Identify
Download Rasters
Get Image Url
Compute Histograms
Compute Statistics Histograms
Get Samples
Compute Class Statistics
Query GPS Info
Find Images
Image to Map
Map to Image
Measure from Image
Image to Map Multiray
Query Boundary
Compute Pixel Location
Compute Angles
Validate
Project