View In:
ArcGIS JavaScript
ArcGIS Online Map Viewer
ArcGIS Earth
Service Description: orto/orto70670sampues
Name: orto/orto70670sampues
Description:
Single Fused Map Cache: false
Extent:
XMin: 4728143.500000003
YMin: 2559779.000000005
XMax: 4756951.999999993
YMax: 2582450.499999997
Spatial Reference: 9377
(9377)
Initial Extent:
XMin: 4728143.500000003
YMin: 2559779.000000005
XMax: 4756951.999999993
YMax: 2582450.499999997
Spatial Reference: 9377
(9377)
Full Extent:
XMin: 4728143.500000003
YMin: 2559779.000000005
XMax: 4756951.999999993
YMax: 2582450.499999997
Spatial Reference: 9377
(9377)
Pixel Size X: 0.09999999999996444
Pixel Size Y: 0.09999999999996509
Band Count: 3
Pixel Type: U8
RasterFunction Infos: {"rasterFunctionInfos": [
{
"name": "None",
"description": "Make a Raster or Raster Dataset into a Function Raster Dataset.",
"help": ""
},
{
"name": "Colormap",
"description": "Es un tipo de renderizador de datos ráster, que transforma los valores de píxel para visualizar los datos ráster como una escala de grises o como una imagen de color (RGB) con base en los colores específicos en un archivo de mapa de color o en una rampa de color. Los mapas de color se pueden utilizar para representar los datos analizados, como una imagen clasificada. ",
"help": ""
},
{
"name": "Grayscale",
"description": "Convierte una imagen multibanda en una imagen de escala de grises de banda única. Las bandas de entrada se pueden tratar aplicando a cada una de ellas unos pesos o bien normalizándolas. ",
"help": ""
}
]}
Mensuration Capabilities: None
Inspection Capabilities:
Has Histograms: true
Has Colormap: false
Has Multi Dimensions : false
Rendering Rule:
Min Scale: 0
Max Scale: 0
Copyright Text:
Service Data Type: esriImageServiceDataTypeRGB
Min Values: 0, 0, 0
Max Values: 189, 255, 183
Mean Values: 53.88032463781644, 62.021305808009195, 49.84078407695703
Standard Deviation Values: 12.180793212766154, 9.157118226773832, 9.862675710564647
Object ID Field: objectid
Fields:
-
objectid
(
type: esriFieldTypeOID, alias: OBJECTID
)
-
name
(
type: esriFieldTypeString, alias: Name, length: 200
)
-
minps
(
type: esriFieldTypeDouble, alias: MinPS
)
-
maxps
(
type: esriFieldTypeDouble, alias: MaxPS
)
-
lowps
(
type: esriFieldTypeDouble, alias: LowPS
)
-
highps
(
type: esriFieldTypeDouble, alias: HighPS
)
-
category
(
type: esriFieldTypeInteger, alias: Category
, Coded Values:
[0: Unknown]
, [1: Primary]
, [2: Overview]
, ...6 more...
)
-
tag
(
type: esriFieldTypeString, alias: Tag, length: 100
)
-
groupname
(
type: esriFieldTypeString, alias: GroupName, length: 100
)
-
productname
(
type: esriFieldTypeString, alias: ProductName, length: 100
)
-
centerx
(
type: esriFieldTypeDouble, alias: CenterX
)
-
centery
(
type: esriFieldTypeDouble, alias: CenterY
)
-
zorder
(
type: esriFieldTypeInteger, alias: ZOrder
)
-
shape
(
type: esriFieldTypeGeometry, alias: Shape
)
Default Mosaic Method: Northwest
Allowed Mosaic Methods: NorthWest,Center,LockRaster,ByAttribute,Nadir,Viewpoint,Seamline,None
SortField:
SortValue: null
Mosaic Operator: First
Default Compression Quality: 75
Default Resampling Method: Bilinear
Max Record Count: 1000
Max Image Height: 4100
Max Image Width: 15000
Max Download Image Count: 20
Max Mosaic Image Count: 20
Allow Raster Function: true
Allow Copy: true
Allow Analysis: true
Allow Compute TiePoints: false
Supports Statistics: true
Supports Advanced Queries: true
Use StandardizedQueries: true
Raster Type Infos:
Name: Raster Dataset
Description: Supports all ArcGIS Raster Datasets
Help:
Has Raster Attribute Table: false
Edit Fields Info: null
Ownership Based AccessControl For Rasters: null
Child Resources:
Info
Histograms
Statistics
Key Properties
Legend
Raster Function Infos
Supported Operations:
Export Image
Query
Identify
Download Rasters
Get Image Url
Compute Histograms
Compute Statistics Histograms
Get Samples
Compute Class Statistics
Query GPS Info
Find Images
Image to Map
Map to Image
Measure from Image
Image to Map Multiray
Query Boundary
Compute Pixel Location
Compute Angles
Validate
Project