View In:
ArcGIS JavaScript
ArcGIS Online Map Viewer
ArcGIS Earth
Service Description: md/mdt44001riohacha
Name: md/mdt44001riohacha
Description:
Single Fused Map Cache: false
Extent:
XMin: 4982429.160999998
YMin: 2779187.435
XMax: 5023311.160999998
YMax: 2835461.435
Spatial Reference: 9377
(9377)
Initial Extent:
XMin: 4982429.160999998
YMin: 2779187.435
XMax: 5023311.160999998
YMax: 2835461.435
Spatial Reference: 9377
(9377)
Full Extent:
XMin: 4982429.160999998
YMin: 2779187.435
XMax: 5023311.160999998
YMax: 2835461.435
Spatial Reference: 9377
(9377)
Pixel Size X: 2.0
Pixel Size Y: 2.0
Band Count: 1
Pixel Type: F32
RasterFunction Infos: {"rasterFunctionInfos": [
{
"name": "Relieve sombreado",
"description": "Un modelo de representación 3D del terreno en color que se ha creado mediante la fusión de imágenes a partir de los métodos de codificación de elevación y de sombreado. Utiliza las propiedades de altitud y acimut para especificar la posición del sol.",
"help": ""
},
{
"name": "Curvas de Nivel",
"description": "Las curvas de nivel son líneas que conectan ubicaciones de igual valor en un dataset de ráster que representa fenómenos continuos como la elevación. Las líneas de curvas de nivel, generalmente, se denominan isolíneas.",
"help": ""
},
{
"name": "Mapa de sombras",
"description": "Los mapas de sombras son uno de los modelos digitales de terreno derivados de archivos DEM que permite mostrar la superficie del territorio a través del sombreado de laderas.",
"help": ""
},
{
"name": "Pendiente",
"description": "Crea una capa ráster que muestra simultáneamente el aspecto y la pendiente de una superficie.",
"help": ""
},
{
"name": "None",
"description": "",
"help": ""
}
]}
Mensuration Capabilities: None
Inspection Capabilities:
Has Histograms: true
Has Colormap: false
Has Multi Dimensions : false
Rendering Rule:
Min Scale: 0
Max Scale: 0
Resampling: false
Copyright Text:
Service Data Type: esriImageServiceDataTypeGeneric
Min Values: 0.004000000189989805
Max Values: 226.15040588378906
Mean Values: 20.08549621303792
Standard Deviation Values: 29.984069905146253
Object ID Field: objectid
Fields:
-
objectid
(
type: esriFieldTypeOID, alias: OBJECTID, editable: false, nullable: false
)
-
name
(
type: esriFieldTypeString, alias: Name, editable: true, nullable: true, length: 200
)
-
minps
(
type: esriFieldTypeDouble, alias: MinPS, editable: true, nullable: true
)
-
maxps
(
type: esriFieldTypeDouble, alias: MaxPS, editable: true, nullable: true
)
-
lowps
(
type: esriFieldTypeDouble, alias: LowPS, editable: true, nullable: true
)
-
highps
(
type: esriFieldTypeDouble, alias: HighPS, editable: true, nullable: true
)
-
category
(
type: esriFieldTypeInteger, alias: Category, editable: false, nullable: true
, Coded Values:
[0: Unknown]
, [1: Primary]
, [2: Overview]
, ...6 more...
)
-
tag
(
type: esriFieldTypeString, alias: Tag, editable: true, nullable: true, length: 100
)
-
groupname
(
type: esriFieldTypeString, alias: GroupName, editable: true, nullable: true, length: 100
)
-
productname
(
type: esriFieldTypeString, alias: ProductName, editable: true, nullable: true, length: 100
)
-
centerx
(
type: esriFieldTypeDouble, alias: CenterX, editable: true, nullable: true
)
-
centery
(
type: esriFieldTypeDouble, alias: CenterY, editable: true, nullable: true
)
-
zorder
(
type: esriFieldTypeInteger, alias: ZOrder, editable: true, nullable: true
)
-
shape
(
type: esriFieldTypeGeometry, alias: Shape, editable: true, nullable: true
)
Default Mosaic Method: Northwest
Allowed Mosaic Methods: NorthWest,Center,LockRaster,ByAttribute,Nadir,Viewpoint,Seamline,None
SortField:
SortValue: null
Mosaic Operator: First
Default Compression Quality: 75
Default Resampling Method: Bilinear
Max Record Count: 1000
Max Image Height: 28138
Max Image Width: 20441
Max Download Image Count: 20
Max Mosaic Image Count: 20
Allow Raster Function: true
Allow Copy: true
Allow Analysis: true
Allow Compute TiePoints: false
Supports Statistics: true
Supports Advanced Queries: true
Use StandardizedQueries: true
Raster Type Infos:
Name: Raster Dataset
Description: Supports all ArcGIS Raster Datasets
Help:
Has Raster Attribute Table: false
Edit Fields Info: null
Ownership Based AccessControl For Rasters: null
Child Resources:
Info
Histograms
Statistics
Key Properties
Legend
Raster Function Infos
Supported Operations:
Export Image
Query
Identify
Download Rasters
Get Image Url
Add Rasters
Update Raster
Delete Rasters
Measure
Compute Histograms
Compute Statistics Histograms
Get Samples
Compute Class Statistics
Query GPS Info
Find Images
Image to Map
Map to Image
Measure from Image
Image to Map Multiray
Query Boundary
Compute Pixel Location
Compute Angles
Validate
Project