View In:
ArcGIS JavaScript
ArcGIS Online Map Viewer
ArcGIS Earth
Service Description: md/mdt15299garagoa
Name: md/mdt15299garagoa
Description:
Single Fused Map Cache: false
Extent:
XMin: 4956257.48296998
YMin: 2111985.979976627
XMax: 4974460.48296998
YMax: 2128405.979976627
Spatial Reference: 9377
(9377)
LatestVCSWkid(0)
Initial Extent:
XMin: 4956257.48296998
YMin: 2111985.979976627
XMax: 4974460.48296998
YMax: 2128405.979976627
Spatial Reference: 9377
(9377)
LatestVCSWkid(0)
Full Extent:
XMin: 4956257.48296998
YMin: 2111985.979976627
XMax: 4974460.48296998
YMax: 2128405.979976627
Spatial Reference: 9377
(9377)
LatestVCSWkid(0)
Pixel Size X: 1.0
Pixel Size Y: 1.0
Band Count: 1
Pixel Type: F32
RasterFunction Infos: {"rasterFunctionInfos": [
{
"name": "Relieve sombreado",
"description": "Un modelo de representación 3D del terreno en color que se ha creado mediante la fusión de imágenes a partir de los métodos de codificación de elevación y de sombreado. Utiliza las propiedades de altitud y acimut para especificar la posición del sol.",
"help": ""
},
{
"name": "Curvas de Nivel",
"description": "Las curvas de nivel son líneas que conectan ubicaciones de igual valor en un dataset de ráster que representa fenómenos continuos como la elevación. Las líneas de curvas de nivel, generalmente, se denominan isolíneas.",
"help": ""
},
{
"name": "Mapa de sombras",
"description": "Los mapas de sombras son uno de los modelos digitales de terreno derivados de archivos DEM que permite mostrar la superficie del territorio a través del sombreado de laderas.",
"help": ""
},
{
"name": "Pendiente",
"description": "Crea una capa ráster que muestra simultáneamente el aspecto y la pendiente de una superficie.",
"help": ""
},
{
"name": "None",
"description": "",
"help": ""
}
]}
Mensuration Capabilities: Basic
Inspection Capabilities:
Has Histograms: true
Has Colormap: false
Has Multi Dimensions : false
Rendering Rule:
Min Scale: 0
Max Scale: 0
Copyright Text:
Service Data Type: esriImageServiceDataTypeGeneric
Min Values: 1254.26025390625
Max Values: 3084.38720703125
Mean Values: 2087.7784886100403
Standard Deviation Values: 358.1723106907135
Object ID Field: objectid
Fields:
-
objectid
(
type: esriFieldTypeOID, alias: OBJECTID
)
-
name
(
type: esriFieldTypeString, alias: Name, length: 200
)
-
minps
(
type: esriFieldTypeDouble, alias: MinPS
)
-
maxps
(
type: esriFieldTypeDouble, alias: MaxPS
)
-
lowps
(
type: esriFieldTypeDouble, alias: LowPS
)
-
highps
(
type: esriFieldTypeDouble, alias: HighPS
)
-
category
(
type: esriFieldTypeInteger, alias: Category
, Coded Values:
[0: Unknown]
, [1: Primary]
, [2: Overview]
, ...6 more...
)
-
tag
(
type: esriFieldTypeString, alias: Tag, length: 100
)
-
groupname
(
type: esriFieldTypeString, alias: GroupName, length: 100
)
-
productname
(
type: esriFieldTypeString, alias: ProductName, length: 100
)
-
centerx
(
type: esriFieldTypeDouble, alias: CenterX
)
-
centery
(
type: esriFieldTypeDouble, alias: CenterY
)
-
zorder
(
type: esriFieldTypeInteger, alias: ZOrder
)
-
shape
(
type: esriFieldTypeGeometry, alias: Shape
)
Default Mosaic Method: Northwest
Allowed Mosaic Methods: NorthWest,Center,LockRaster,ByAttribute,Nadir,Viewpoint,Seamline,None
SortField:
SortValue: null
Mosaic Operator: First
Default Compression Quality: 75
Default Resampling Method: Bilinear
Max Record Count: 1000
Max Image Height: 1635
Max Image Width: 1812
Max Download Image Count: 20
Max Mosaic Image Count: 20
Allow Raster Function: true
Allow Copy: true
Allow Analysis: true
Allow Compute TiePoints: false
Supports Statistics: true
Supports Advanced Queries: true
Use StandardizedQueries: true
Raster Type Infos:
Name: Raster Dataset
Description: Supports all ArcGIS Raster Datasets
Help:
Has Raster Attribute Table: false
Edit Fields Info: null
Ownership Based AccessControl For Rasters: null
Child Resources:
Info
Histograms
Statistics
Key Properties
Legend
Raster Function Infos
Supported Operations:
Export Image
Query
Identify
Download Rasters
Get Image Url
Measure
Compute Histograms
Compute Statistics Histograms
Get Samples
Compute Class Statistics
Query GPS Info
Find Images
Image to Map
Map to Image
Measure from Image
Image to Map Multiray
Query Boundary
Compute Pixel Location
Compute Angles
Validate
Project