{
 "currentVersion": 11.3,
 "serviceDescription": "ott/cordoba_alta",
 "name": "ott/cordoba_alta",
 "description": "",
 "extent": {
  "xmin": 4631784.0619,
  "ymin": 2445924.70523152,
  "xmax": 4763815.7585198,
  "ymax": 2605903.8926,
  "spatialReference": {
   "wkid": 9377,
   "latestWkid": 9377
  }
 },
 "initialExtent": {
  "xmin": 4631784.0619,
  "ymin": 2445924.70523152,
  "xmax": 4763815.7585198,
  "ymax": 2605903.8926,
  "spatialReference": {
   "wkid": 9377,
   "latestWkid": 9377
  }
 },
 "fullExtent": {
  "xmin": 4631784.0619,
  "ymin": 2445924.70523152,
  "xmax": 4763815.7585198,
  "ymax": 2605903.8926,
  "spatialReference": {
   "wkid": 9377,
   "latestWkid": 9377
  }
 },
 "sortableFields": "MinPS,MaxPS,LowPS,HighPS,CenterX,CenterY,ZOrder",
 "bandCount": 4,
 "pixelType": "U16",
 "minValues": [
  0.6229873668565766,
  0.6176398729538236,
  0.8704438383337466,
  1.5649655172413792
 ],
 "maxValues": [
  5029.377012633143,
  5055.382360127046,
  7020.129556161666,
  11344.435034482758
 ],
 "meanValues": [
  436.5865690100769,
  435.69237961080927,
  331.12507380667023,
  1170.516012698788
 ],
 "stdvValues": [
  259.85184500739274,
  286.5943911594881,
  254.16795343272904,
  633.8474933268446
 ],
 "hasMultidimensions": false,
 "pixelSizeX": 0.5182082800000012,
 "pixelSizeY": 0.5182082800000001,
 "meanPixelSize": 0.5182082800000006,
 "datasetFormat": "AMD",
 "uncompressedSize": 629247178752,
 "blockWidth": 2048,
 "blockHeight": 256,
 "compressionType": "None",
 "bandNames": [
  "Band_1",
  "Band_2",
  "Band_3",
  "Band_4"
 ],
 "allowCopy": true,
 "allowAnalysis": true,
 "itemAccess": false,
 "inspectionCapabilities": "",
 "minPixelSize": 0,
 "maxPixelSize": 0,
 "copyrightText": "",
 "serviceDataType": "esriImageServiceDataTypeGeneric",
 "serviceSourceType": "esriImageServiceSourceTypeMosaicDataset",
 "objectIdField": "objectid",
 "fields": [
  {
   "name": "objectid",
   "type": "esriFieldTypeOID",
   "alias": "OBJECTID",
   "domain": null
  },
  {
   "name": "name",
   "type": "esriFieldTypeString",
   "alias": "Name",
   "domain": null,
   "length": 200
  },
  {
   "name": "minps",
   "type": "esriFieldTypeDouble",
   "alias": "MinPS",
   "domain": null
  },
  {
   "name": "maxps",
   "type": "esriFieldTypeDouble",
   "alias": "MaxPS",
   "domain": null
  },
  {
   "name": "lowps",
   "type": "esriFieldTypeDouble",
   "alias": "LowPS",
   "domain": null
  },
  {
   "name": "highps",
   "type": "esriFieldTypeDouble",
   "alias": "HighPS",
   "domain": null
  },
  {
   "name": "category",
   "type": "esriFieldTypeInteger",
   "alias": "Category",
   "domain": {
    "type": "codedValue",
    "name": "MosaicCatalogItemCategoryDomain",
    "description": "Catalog item categories.",
    "codedValues": [
     {
      "name": "Unknown",
      "code": 0
     },
     {
      "name": "Primary",
      "code": 1
     },
     {
      "name": "Overview",
      "code": 2
     },
     {
      "name": "Unprocessed Overview",
      "code": 3
     },
     {
      "name": "Partial Overview",
      "code": 4
     },
     {
      "name": "Inactive",
      "code": 5
     },
     {
      "name": "Uploaded",
      "code": 253
     },
     {
      "name": "Incomplete",
      "code": 254
     },
     {
      "name": "Custom",
      "code": 255
     }
    ],
    "mergePolicy": "esriMPTDefaultValue",
    "splitPolicy": "esriSPTDefaultValue"
   }
  },
  {
   "name": "tag",
   "type": "esriFieldTypeString",
   "alias": "Tag",
   "domain": null,
   "length": 100
  },
  {
   "name": "groupname",
   "type": "esriFieldTypeString",
   "alias": "GroupName",
   "domain": null,
   "length": 100
  },
  {
   "name": "productname",
   "type": "esriFieldTypeString",
   "alias": "ProductName",
   "domain": null,
   "length": 100
  },
  {
   "name": "centerx",
   "type": "esriFieldTypeDouble",
   "alias": "CenterX",
   "domain": null
  },
  {
   "name": "centery",
   "type": "esriFieldTypeDouble",
   "alias": "CenterY",
   "domain": null
  },
  {
   "name": "zorder",
   "type": "esriFieldTypeInteger",
   "alias": "ZOrder",
   "domain": null
  },
  {
   "name": "shape",
   "type": "esriFieldTypeGeometry",
   "alias": "Shape",
   "domain": null
  }
 ],
 "capabilities": "Image,Metadata,Pixels,Catalog,Download",
 "defaultMosaicMethod": "Northwest",
 "allowedMosaicMethods": "NorthWest,Center,LockRaster,ByAttribute,Nadir,Viewpoint,Seamline,None",
 "sortField": "",
 "sortValue": null,
 "sortAscending": true,
 "mosaicOperator": "First",
 "maxDownloadSizeLimit": 2048,
 "defaultCompressionQuality": 75,
 "defaultResamplingMethod": "Bilinear",
 "maxImageHeight": 308716,
 "maxImageWidth": 254785,
 "maxRecordCount": 1000,
 "maxDownloadImageCount": 20,
 "maxMosaicImageCount": 20,
 "allowRasterFunction": true,
 "rasterFunctionInfos": [
  {
   "name": "Truecolor",
   "description": "Composición en color natural que muestra la combinación de la banda Roja, Verde y Azul con sus correspondientes canales, generando de esta forma una representación gráfica con los colores naturales de los elementos.",
   "help": ""
  },
  {
   "name": "None",
   "description": "Make a Raster or Raster Dataset into a Function Raster Dataset.",
   "help": ""
  }
 ],
 "rasterTypeInfos": [
  {
   "name": "Raster Dataset",
   "description": "Supports all ArcGIS Raster Datasets",
   "help": ""
  }
 ],
 "mensurationCapabilities": "None",
 "hasHistograms": true,
 "hasColormap": false,
 "hasRasterAttributeTable": false,
 "minScale": 0,
 "maxScale": 0,
 "exportTilesAllowed": false,
 "supportsStatistics": true,
 "supportsAdvancedQueries": true,
 "editFieldsInfo": null,
 "ownershipBasedAccessControlForRasters": null,
 "allowComputeTiePoints": false,
 "useStandardizedQueries": true,
 "advancedQueryCapabilities": {
  "useStandardizedQueries": true,
  "supportsStatistics": true,
  "supportsOrderBy": true,
  "supportsDistinct": true,
  "supportsPagination": true
 },
 "spatialReference": {
  "wkid": 9377,
  "latestWkid": 9377
 }
}
