{
 "currentVersion": 11.3,
 "serviceDescription": "orto/orto08atlantico8b2025",
 "name": "orto/orto08atlantico8b2025",
 "description": "",
 "extent": {
  "xmin": 4752816.970027854,
  "ymin": 2689362.8005955173,
  "xmax": 4814193.970027854,
  "ymax": 2786223.8005955173,
  "spatialReference": {
   "wkid": 9377,
   "latestWkid": 9377
  }
 },
 "initialExtent": {
  "xmin": 4752816.970027854,
  "ymin": 2689362.8005955173,
  "xmax": 4814193.970027854,
  "ymax": 2786223.8005955173,
  "spatialReference": {
   "wkid": 9377,
   "latestWkid": 9377
  }
 },
 "fullExtent": {
  "xmin": 4752816.970027854,
  "ymin": 2689362.8005955173,
  "xmax": 4814193.970027854,
  "ymax": 2786223.8005955173,
  "spatialReference": {
   "wkid": 9377,
   "latestWkid": 9377
  }
 },
 "sortableFields": "MinPS,MaxPS,LowPS,HighPS,CenterX,CenterY,ZOrder",
 "bandCount": 8,
 "pixelType": "U16",
 "minValues": [
  0,
  0,
  0,
  0,
  0,
  0,
  0,
  0
 ],
 "maxValues": [
  47445,
  40874,
  41881,
  42184,
  41797,
  41854,
  41907,
  60755
 ],
 "meanValues": [
  13640.633430508695,
  10942.68117462224,
  13728.680617385347,
  14561.027476681345,
  13237.61919229383,
  12641.31896468707,
  16932.222843422653,
  23522.30623633809
 ],
 "stdvValues": [
  4887.5746373083075,
  4737.482043617279,
  4526.1346666334475,
  4744.157153150685,
  5069.781030616946,
  5699.837634501872,
  4852.738235170688,
  7002.219742103244
 ],
 "hasMultidimensions": false,
 "pixelSizeX": 3,
 "pixelSizeY": 3,
 "meanPixelSize": 3,
 "datasetFormat": "AMD",
 "uncompressedSize": 10568955728,
 "blockWidth": 2048,
 "blockHeight": 256,
 "compressionType": "None",
 "bandNames": [
  "B1 (Coastal)",
  "B2 (Blue)",
  "B3 (Green1)",
  "B4 (Green)",
  "B5 (Yellow)",
  "B6 (Red)",
  "B7 (Red Edge)",
  "B8 (NIR)"
 ],
 "allowCopy": true,
 "allowAnalysis": true,
 "itemAccess": false,
 "inspectionCapabilities": "",
 "minPixelSize": 0,
 "maxPixelSize": 0,
 "copyrightText": "",
 "serviceDataType": "esriImageServiceDataTypeGeneric",
 "serviceSourceType": "esriImageServiceSourceTypeMosaicDataset",
 "objectIdField": "objectid",
 "fields": [
  {
   "name": "objectid",
   "type": "esriFieldTypeOID",
   "alias": "OBJECTID",
   "domain": null
  },
  {
   "name": "name",
   "type": "esriFieldTypeString",
   "alias": "Name",
   "domain": null,
   "length": 200
  },
  {
   "name": "minps",
   "type": "esriFieldTypeDouble",
   "alias": "MinPS",
   "domain": null
  },
  {
   "name": "maxps",
   "type": "esriFieldTypeDouble",
   "alias": "MaxPS",
   "domain": null
  },
  {
   "name": "lowps",
   "type": "esriFieldTypeDouble",
   "alias": "LowPS",
   "domain": null
  },
  {
   "name": "highps",
   "type": "esriFieldTypeDouble",
   "alias": "HighPS",
   "domain": null
  },
  {
   "name": "category",
   "type": "esriFieldTypeInteger",
   "alias": "Category",
   "domain": {
    "type": "codedValue",
    "name": "MosaicCatalogItemCategoryDomain",
    "description": "Catalog item categories.",
    "codedValues": [
     {
      "name": "Unknown",
      "code": 0
     },
     {
      "name": "Primary",
      "code": 1
     },
     {
      "name": "Overview",
      "code": 2
     },
     {
      "name": "Unprocessed Overview",
      "code": 3
     },
     {
      "name": "Partial Overview",
      "code": 4
     },
     {
      "name": "Inactive",
      "code": 5
     },
     {
      "name": "Uploaded",
      "code": 253
     },
     {
      "name": "Incomplete",
      "code": 254
     },
     {
      "name": "Custom",
      "code": 255
     }
    ],
    "mergePolicy": "esriMPTDefaultValue",
    "splitPolicy": "esriSPTDefaultValue"
   }
  },
  {
   "name": "tag",
   "type": "esriFieldTypeString",
   "alias": "Tag",
   "domain": null,
   "length": 100
  },
  {
   "name": "groupname",
   "type": "esriFieldTypeString",
   "alias": "GroupName",
   "domain": null,
   "length": 100
  },
  {
   "name": "productname",
   "type": "esriFieldTypeString",
   "alias": "ProductName",
   "domain": null,
   "length": 100
  },
  {
   "name": "centerx",
   "type": "esriFieldTypeDouble",
   "alias": "CenterX",
   "domain": null
  },
  {
   "name": "centery",
   "type": "esriFieldTypeDouble",
   "alias": "CenterY",
   "domain": null
  },
  {
   "name": "zorder",
   "type": "esriFieldTypeInteger",
   "alias": "ZOrder",
   "domain": null
  },
  {
   "name": "shape",
   "type": "esriFieldTypeGeometry",
   "alias": "Shape",
   "domain": null
  }
 ],
 "capabilities": "Image,Metadata,Pixels,Catalog,Download",
 "defaultMosaicMethod": "Northwest",
 "allowedMosaicMethods": "NorthWest,Center,LockRaster,ByAttribute,Nadir,Viewpoint,Seamline,None",
 "sortField": "",
 "sortValue": null,
 "sortAscending": true,
 "mosaicOperator": "First",
 "maxDownloadSizeLimit": 2048,
 "defaultCompressionQuality": 75,
 "defaultResamplingMethod": "Bilinear",
 "maxImageHeight": 32287,
 "maxImageWidth": 20459,
 "maxRecordCount": 1000,
 "maxDownloadImageCount": 20,
 "maxMosaicImageCount": 20,
 "allowRasterFunction": true,
 "rasterFunctionInfos": [
  {
   "name": "Truecolor",
   "description": "Composición en color natural que muestra la combinación de la banda Roja, Verde y Azul con sus correspondientes canales, generando de esta forma una representación gráfica con los colores naturales de los elementos.",
   "help": ""
  },
  {
   "name": "Colormap",
   "description": "Es un tipo de renderizador de datos ráster, que transforma los valores de píxel para visualizar los datos ráster como una escala de grises o como una imagen de color (RGB) con base en los colores específicos en un archivo de mapa de color o en una rampa de color. Los mapas de color se pueden utilizar para representar los datos analizados, como una imagen clasificada. ",
   "help": ""
  },
  {
   "name": "Grayscale",
   "description": "Convierte una imagen multibanda en una imagen de escala de grises de banda única. Las bandas de entrada se pueden tratar aplicando a cada una de ellas unos pesos o bien normalizándolas. ",
   "help": ""
  },
  {
   "name": "NDVI",
   "description": "El Índice de Vegetación de Diferencia Normalizada es un indicador simple de biomasa fotosintéticamente activa o, en términos simples, un cálculo de la salud de la vegetación. ",
   "help": ""
  },
  {
   "name": "None",
   "description": "Make a Raster or Raster Dataset into a Function Raster Dataset.",
   "help": ""
  }
 ],
 "rasterTypeInfos": [
  {
   "name": "Raster Dataset",
   "description": "Supports all ArcGIS Raster Datasets",
   "help": ""
  }
 ],
 "mensurationCapabilities": "None",
 "hasHistograms": true,
 "hasColormap": false,
 "hasRasterAttributeTable": false,
 "minScale": 0,
 "maxScale": 0,
 "exportTilesAllowed": false,
 "supportsStatistics": true,
 "supportsAdvancedQueries": true,
 "editFieldsInfo": null,
 "ownershipBasedAccessControlForRasters": null,
 "allowComputeTiePoints": false,
 "useStandardizedQueries": true,
 "advancedQueryCapabilities": {
  "useStandardizedQueries": true,
  "supportsStatistics": true,
  "supportsOrderBy": true,
  "supportsDistinct": true,
  "supportsPagination": true
 },
 "spatialReference": {
  "wkid": 9377,
  "latestWkid": 9377
 }
}
